BEGIN:VCALENDAR
VERSION:2.0
PRODID:-//Stay in Cork - ECPv6.15.20//NONSGML v1.0//EN
CALSCALE:GREGORIAN
METHOD:PUBLISH
X-WR-CALNAME:Stay in Cork
X-ORIGINAL-URL:https://stayincork.com
X-WR-CALDESC:Events for Stay in Cork
REFRESH-INTERVAL;VALUE=DURATION:PT1H
X-Robots-Tag:noindex
X-PUBLISHED-TTL:PT1H
BEGIN:VTIMEZONE
TZID:Europe/Dublin
BEGIN:STANDARD
TZOFFSETFROM:+0000
TZOFFSETTO:+0100
TZNAME:IST
DTSTART:20170326T010000
END:STANDARD
BEGIN:DAYLIGHT
TZOFFSETFROM:+0100
TZOFFSETTO:+0000
TZNAME:GMT
DTSTART:20171029T010000
END:DAYLIGHT
BEGIN:STANDARD
TZOFFSETFROM:+0000
TZOFFSETTO:+0100
TZNAME:IST
DTSTART:20180325T010000
END:STANDARD
BEGIN:DAYLIGHT
TZOFFSETFROM:+0100
TZOFFSETTO:+0000
TZNAME:GMT
DTSTART:20181028T010000
END:DAYLIGHT
BEGIN:STANDARD
TZOFFSETFROM:+0000
TZOFFSETTO:+0100
TZNAME:IST
DTSTART:20190331T010000
END:STANDARD
BEGIN:DAYLIGHT
TZOFFSETFROM:+0100
TZOFFSETTO:+0000
TZNAME:GMT
DTSTART:20191027T010000
END:DAYLIGHT
END:VTIMEZONE
BEGIN:VEVENT
DTSTART;TZID=Europe/Dublin:20181214T203000
DTEND;TZID=Europe/Dublin:20181214T230000
DTSTAMP:20260422T105954
CREATED:20181203T125509Z
LAST-MODIFIED:20181206T133741Z
UID:767-1544819400-1544828400@stayincork.com
SUMMARY:Black Sheep Comedy Club
DESCRIPTION:Three popular comedians team up to bring a night of laughs to Black Sheep Comedy Club at The White Horse Gastro Pub in Ballincollig. \nEmma Doran describes herself as a “chancer”. Her stand up comedy and sketches are extremely popular on  sites including Daily Edge\, Mummypages\, SHEmazing\, Broadsheet\, Breakingnews.ie\, and Her.ie.\nShe has made appearances on RTÉ’s Republic of Telly\, the Today Show with Daithi and Maura and American TV Show Right This Minute.\nHer droll humour satirizes many aspects of modern Ireland is wickedly funny. \nMr Hennessy is a regular at many festivals including the Edinburgh Fringe Festival\, the Vodafone Comedy Carnival\, Bray Comedy Fest and The Galway Fringe and is the winner of numerous comedy awards. \nShane Clifford is a comedian from Co.Kerry venturing into the hostile territory of County Cork. He has a big following on YouTube\, Twitter and Facebook but will he be able for the Cork Hecklers?\nThat is the question.
URL:https://stayincork.com/event/black-sheep-comedy-club/
LOCATION:The White Horse\, West Village\, Ballincollig\, County Gork\, P31 YA40\, Ireland
CATEGORIES:Comedy
ATTACH;FMTTYPE=image/jpeg:https://stayincork.com/wp-content/uploads/2018/12/black-sheep-comedy-club.jpg
END:VEVENT
END:VCALENDAR