BEGIN:VCALENDAR
VERSION:2.0
PRODID:-//Stay in Cork - ECPv6.15.20//NONSGML v1.0//EN
CALSCALE:GREGORIAN
METHOD:PUBLISH
X-WR-CALNAME:Stay in Cork
X-ORIGINAL-URL:https://stayincork.com
X-WR-CALDESC:Events for Stay in Cork
REFRESH-INTERVAL;VALUE=DURATION:PT1H
X-Robots-Tag:noindex
X-PUBLISHED-TTL:PT1H
BEGIN:VTIMEZONE
TZID:Europe/Dublin
BEGIN:STANDARD
TZOFFSETFROM:+0000
TZOFFSETTO:+0100
TZNAME:IST
DTSTART:20180325T010000
END:STANDARD
BEGIN:DAYLIGHT
TZOFFSETFROM:+0100
TZOFFSETTO:+0000
TZNAME:GMT
DTSTART:20181028T010000
END:DAYLIGHT
BEGIN:STANDARD
TZOFFSETFROM:+0000
TZOFFSETTO:+0100
TZNAME:IST
DTSTART:20190331T010000
END:STANDARD
BEGIN:DAYLIGHT
TZOFFSETFROM:+0100
TZOFFSETTO:+0000
TZNAME:GMT
DTSTART:20191027T010000
END:DAYLIGHT
BEGIN:STANDARD
TZOFFSETFROM:+0000
TZOFFSETTO:+0100
TZNAME:IST
DTSTART:20200329T010000
END:STANDARD
BEGIN:DAYLIGHT
TZOFFSETFROM:+0100
TZOFFSETTO:+0000
TZNAME:GMT
DTSTART:20201025T010000
END:DAYLIGHT
END:VTIMEZONE
BEGIN:VTIMEZONE
TZID:Europe/London
BEGIN:DAYLIGHT
TZOFFSETFROM:+0000
TZOFFSETTO:+0100
TZNAME:BST
DTSTART:20170326T010000
END:DAYLIGHT
BEGIN:STANDARD
TZOFFSETFROM:+0100
TZOFFSETTO:+0000
TZNAME:GMT
DTSTART:20171029T010000
END:STANDARD
BEGIN:DAYLIGHT
TZOFFSETFROM:+0000
TZOFFSETTO:+0100
TZNAME:BST
DTSTART:20180325T010000
END:DAYLIGHT
BEGIN:STANDARD
TZOFFSETFROM:+0100
TZOFFSETTO:+0000
TZNAME:GMT
DTSTART:20181028T010000
END:STANDARD
BEGIN:DAYLIGHT
TZOFFSETFROM:+0000
TZOFFSETTO:+0100
TZNAME:BST
DTSTART:20190331T010000
END:DAYLIGHT
BEGIN:STANDARD
TZOFFSETFROM:+0100
TZOFFSETTO:+0000
TZNAME:GMT
DTSTART:20191027T010000
END:STANDARD
END:VTIMEZONE
BEGIN:VEVENT
DTSTART;VALUE=DATE:20190906
DTEND;VALUE=DATE:20190916
DTSTAMP:20260424T172811
CREATED:20190804T143804Z
LAST-MODIFIED:20190804T143804Z
UID:917-1567728000-1568591999@stayincork.com
SUMMARY:Taste of West Cork Food Festival 2019
DESCRIPTION:Taste of West Cork Food Festival 2019 starts on 6th September and continues for 10 days until the 15th. This makes a Taste of West Cork 2019 one of the longest food festivals in the country and it is recognized as one of the best also. The Restaurant Association of Ireland called it Ireland’s number one foodie destination in 2017.  Not only is it the the best but it is also the biggest with numerous towns\, restaurants\, producers\, chefs and visitors participating. \nA Taste of West Cork Food Festival brings together a unique mix of food markets\, cooking demonstrations\, dinners\, brunches and banquets with guest chefs\, food-tastings\, talks\, exhibitions\, children’s events and more. Over 250 events take place across West Cork in 50 towns and villages and 8 islands. \nCelebrity Chefs\nThese are some of the top chefs which will be in action throughout the the week:\nKEVIN AHERN Owner and Head Chef at the Sage Restaurant in Midleton\, cooking at Dunmore House Hotel\, Clonakilty\, on 12th September.\nED COONEY Executive Chef at the Merrion Dublin cooking at The Church Restaurant on 12th September.\nDERRY CLARKE Chef & patron of L’Ecrivain cooking at Sherkin House\, Sherkin Island on 14th September.\nSTEVEN AND DAVID FLYNN o The Happy Pear Restaurant at Field’s of Skibbereen SuperValu\, Friday 6th September.\nAHMET DEDE Head chef at Michelin Star Mews Restaurant\, Baltimore cooking at the Customs House on 10th September.\nMARK DOE from justcooking.ie cooking at Murphy’s SuperValu\, Castletownbere on 13th September.\nEDDIE ATTWELL head chef at the Eccles Hotel in Glengarriff as Head Chef cooking at Bumblebee Farm\, Drimoleague on 7th September.\nANTHONY TARRO USA GUEST CHEF Joint owner of the Sienna Restaurant Group in Providence\, Rhode Island cooking at Glebe on 11th September.\nENEKO LOPEZ head chef of the Paradiso restaurant in Cork city cooking at Pilgrims on 12th September\nThere are many more too numerous to mention here but you can check them all at the Taste of West Cork website \n \nWalks and Talks\nDuring the week there are lots of tours\, talks\, demonstrations\, workshops and outings. Here are just a few of the best: \nTEN ISLAND TOUR leaves from Baltimore Pier and cruises around the beautiful islands of Roaring Water Bay\, with a full commentary on the history of the islands.\ncomplimentary snacks and drinks.\nThe Clonakilty Food Tour visits many food producers in the area including Clonakilty Black pudding\, and cheese meat ice cream beer chartered and bread producers. Medieval feasting is it talk and slideshow about the feasting that took place in the great Hall of Dun na Sead castle in the Middle Ages.\nBECKETT AND THE WAKE: AN EVENING WITH JOHN MINIHAN\nThe Coffee Shop at Uillinn\, Skibbereen.\nJohn Minihan\, renowned Irish photographer photographed the great playwright Samuel Beckett many times in Paris and London\, capturing moments that have become iconic images.\nFORAGING FISHING & FEASTING WITH THE EXPERTS\njoin Michelin Star Chef Ahmet Dede of the Mews Restaurant\, Baltimore and visiting\nindigenous Australian chefs Luke and Samuel Bourke\, David Gray and Josh Moore for a marathon day of foraging\, fishing and feasting. \nThere are dozens of fascinating events all over West Cork during the course of the 10 day festival.\nDownload the programme for full details. \n \nMarkets and Fairs\nThroughout the week there ar Farmers Markets and fairs at various locations: \nFriday 6th September: Bantry Market Fair Day\nFriday 6th September: Clonakilty Farmers Market\nFriday 6th September: Skibbereen Country Market 40th Anniversary\nSaturday 7th September: Skibbereen Country Market\nSaturday 7th September: Bandon Farmers Market\nSunday 8th September: Schull Country Market\nSunday 8th September: Kilcrohane Country Fair\nTuesday 10th September: Macroom Market\nFriday 13th September: Clonakilty Farmers Market\nFriday 13th September: Bantry Market\nFriday 13th September: Skibbereen Country Market\nSaturday 14th September: Skibbereen Farmers Market\nSaturday 14th September: Bandon Farmers Market \nTowns and Villages in Taste of West Cork 2019\nAlmost every town and village in West Cork is participating in some way in this great food festival. Food tasting\, special menus\, celebrity chefs\, markets\, talks \,walks\, workshops\,and seminars are among the events during the festival.\nIf you pass through Bantry\, Clonakilty\, Skibbereen\,\, Baltimore\, Kilcrohane\, Leap\, Dunmanway\, Ballydehob\, Castletownshend\, Courtmacsherry\, Bere Island\, Bandon\, Ahakista\, Durrus\, Glengarriff\, Allihies\, Macroom\, Sherkin Island\, Drimoleague\, Schull\, Castlehaven\, Heir Island\, Ballingeary\, Rosscarbery\, Goleen\, Timoleague\, Inchigeela\, Glandore\, Ballineen\, Union Hall\, Inish Beg Island\, Ballyvourney\, Bere Island or Cape Clear Island you will find some event or tasting to your liking. \nFor more information about a Taste of West Cork 2019 click here.\nor download the progamme here.
URL:https://stayincork.com/event/taste-of-west-cork-food-festival-2019/
LOCATION:West Cork\, Skibereen\, Munster\, Ireland
CATEGORIES:Festivals
ATTACH;FMTTYPE=image/jpeg:https://stayincork.com/wp-content/uploads/2019/08/IMG_9556.jpg
END:VEVENT
BEGIN:VEVENT
DTSTART;VALUE=DATE:20190615
DTEND;VALUE=DATE:20190616
DTSTAMP:20260424T172811
CREATED:20190429T121059Z
LAST-MODIFIED:20190429T165049Z
UID:862-1560556800-1560643199@stayincork.com
SUMMARY:Clonakilty Street Carnival 2019
DESCRIPTION:Clonakilty Street Carnival 2019 set to continue the stree fun and entertainment of the past few years.\nThis is one of the best street carnivals in the country with everything from street food\, music\, clowns\, jugglers\, kids game\, street table tennis\, bouncy castles\, face painting\, stilt walking\, magicians\, drummers and lots more. Almost everything you could think of in street entertainment and new imaginative events being added every year. \nHere are some pictures of previous years carnival (courtesy of Clonakilty Street Carnival Facebook Page)
URL:https://stayincork.com/event/clonakilty-street-carnival-2019/
LOCATION:Clonakilty Venue\, Clonakilty\, Cork\, Ireland
CATEGORIES:Festivals
ATTACH;FMTTYPE=image/jpeg:https://stayincork.com/wp-content/uploads/2019/04/19225167_441243489587193_7827578738299865892_n.jpg
END:VEVENT
BEGIN:VEVENT
DTSTART;VALUE=DATE:20190606
DTEND;VALUE=DATE:20190610
DTSTAMP:20260424T172811
CREATED:20190510T112052Z
LAST-MODIFIED:20190510T112052Z
UID:878-1559779200-1560124799@stayincork.com
SUMMARY:Clon Bike Fest 2019
DESCRIPTION:Clon Bike Fest 2019 is a great fun festival for cycling enthusiasts. No need to be a professional or serious cyclist to enjoy the activities. \nLots of events including the annual lap of the town (on bikes of course).\nSpecial guests\, bike workshop\, drinks and nibbles and more. \nInchydoney Family Picnic: A fun and relaxed cycle for friends\, families and kids of all ages Bring your own picnic and have some fun on the beach. \nA Slow Bike Race – who is the slowest cyclist in Clonakilty? A great fun event. \nFix your bike\, repair tyres and tubes and lots more advice. \nEstuary Birdwatch Cycle\, Cycle-in Cinema\, Twelfth Night on bikes\, Farm-to-fork BBQ Cycle and more yet-t0-be-announced events are in store for cyclists. \nAlso a big End of Festival Party! \nVisit http://clonakiltybicyclefestival.org/ for full details \n  \n 
URL:https://stayincork.com/event/clon-bike-fest-2019/
LOCATION:Clonakilty Venue\, Clonakilty\, Cork\, Ireland
CATEGORIES:Festivals
ATTACH;FMTTYPE=image/jpeg:https://stayincork.com/wp-content/uploads/2019/05/clon-bike-fest-2019.jpg
END:VEVENT
BEGIN:VEVENT
DTSTART;VALUE=DATE:20190315
DTEND;VALUE=DATE:20190319
DTSTAMP:20260424T172811
CREATED:20190212T153400Z
LAST-MODIFIED:20190212T153400Z
UID:813-1552608000-1552953599@stayincork.com
SUMMARY:St. Patrick's Day Festival 2019
DESCRIPTION:St. Patricks Day Festival Cork 2019. This annual event will a host of great events with entertainment for all the family celebrating Ireland’s patron saint. There is likely to be up to 100\,000 people attending making it a vibrant and exciting festival.Included will be the St Patrick’s Day Parade itself which will feature street theatre\, exhibitions\, marching music and fantastic colour with up to 3000 community and voluntary groups participating.\nThe theme of this year’s parade is 1916 – The Legacy and there will be numerous 1916 commemoration events around Cork over the weekend. \nMime artists\, jugglers\, magicians musicians and clowns\, bands\, groups and solo musicians will be on the streets and on stage during the festival.
URL:https://stayincork.com/event/st-patricks-day-festival-2019/
LOCATION:Cork City Venue\, Patrick Street\, Cork\, Cork\, Ireland
CATEGORIES:Festivals
ATTACH;FMTTYPE=image/jpeg:https://stayincork.com/wp-content/uploads/2019/02/St-Patrick-s-Day-2017.jpg
END:VEVENT
BEGIN:VEVENT
DTSTART;VALUE=DATE:20190314
DTEND;VALUE=DATE:20190319
DTSTAMP:20260424T172811
CREATED:20190212T151031Z
LAST-MODIFIED:20190305T170405Z
UID:808-1552521600-1552953599@stayincork.com
SUMMARY:Kanturk Arts Festival 2019
DESCRIPTION:Kanturk is hosting its annual Arts Festival which has grown year on year since 2009.\nNew events are added every year and this coming year Kanturk Arts Festival 2019 Flash Fiction Competition will be judged by novelist and poet\, Nuala O’Connor.\nNuala will also be engaging a writing workshop on the 16th of March.\nThere will also be music\, art exhibitions\, writing\, art and craft workshops for all ages\, drama\, photography and lots more.\nVisit Chainsaw Carving\, School Arts Street Exhibition\, Poetry Slam\, World Premiere od “A Different Kettle’ and more. \nSee programme at https://kanturkarts.ie/2019-festival-programme/ \n 
URL:https://stayincork.com/event/kanturk-arts-festival/
LOCATION:Kanturk Venue\, Strand Street\, Kanturk\, County Cork\, Ireland
CATEGORIES:Festivals
ATTACH;FMTTYPE=image/jpeg:https://stayincork.com/wp-content/uploads/2019/02/winnera-600x288.jpg
END:VEVENT
BEGIN:VEVENT
DTSTART;VALUE=DATE:20190224
DTEND;VALUE=DATE:20190305
DTSTAMP:20260424T172811
CREATED:20190212T132632Z
LAST-MODIFIED:20190212T133026Z
UID:803-1550966400-1551743999@stayincork.com
SUMMARY:Cork French Film Festival
DESCRIPTION:The Cork French Film Festival showcases the best of French and international feature films\, documentaries and short films. Many of the screenings are Irish premières.\nSomeop international film-makers engage in Q&A screenings and master classes. \nCork French Film Festival has numerous events for lovers of cinema including live audio-visual events\, cine-concerts\, exhibitions and installations. For more info please visit www.corkfrenchfilmfestival.com and sign up to our mailing list for news updates and special offers.
URL:https://stayincork.com/event/cork-french-film-festival/
LOCATION:Cork City Venue\, Patrick Street\, Cork\, Cork\, Ireland
CATEGORIES:Festivals
ATTACH;FMTTYPE=image/jpeg:https://stayincork.com/wp-content/uploads/2019/02/web-temp.jpg
END:VEVENT
BEGIN:VEVENT
DTSTART;VALUE=DATE:20180907
DTEND;VALUE=DATE:20180917
DTSTAMP:20260424T172811
CREATED:20180731T092757Z
LAST-MODIFIED:20180731T093018Z
UID:658-1536278400-1537142399@stayincork.com
SUMMARY:Taste of West Cork Food Festival 2018
DESCRIPTION:Taste of West Cork Food Festival 2018 kicks off on 7th September and continues for  10 days until the 16th. This makes it one of the longest food festivals in the country and it is recognized as one of the best also. The Restaurant Association of Ireland called it Ireland’s number one foodie destination in 2017.  Not only is it the the best but it is also the biggest with numerous towns\, restaurants\, producers\, chefs and visitors participating. \nCelebrity Chefs\nHere is our pick of the chefs which we would like to see during the week.\nKevin Ahern owner of Sage Restaurant in Middleton is cooking at Dunmore House Hotel on 13 September.\nRachel Allen well known TV chef who teaches at Ballymaloe house will cook at the Beara Coast hotel in Castletownbere on 12 September.\nDerry Clark of Michelin star L’Ecrivain restaurant in Dublin is cooking at the Islanders Rest Sherkin Island on 8th September.\nThe Argentinian chef Florencio Fons is cooking at Mary Ann’s is Bar & Restaurant\, Castletownshend on Friday\, 7 September.\nMartin Shanahan TV chef and owner of Fishy Fishy in Kinsale is giving the cooking demonstration at Field’s of Skibbereen on Friday\, 14 September.\nFamous American chef Anthony Tarro who has a restaurant in Providence Rhode Island Will be cooking that Hayes’ Bar Glandore on 12 September.\nPaul Cartwright what is the chef the Roly’s Bistro in Dublin is cooking at Annie May’s in Skibbereen on 10 September.\nThere are many more too numerous to mention here but you can check them all at the Taste of West Cork website \n \nWalks and Talks\nDuring the week there are lots of tours\, talks\, demonstrations\, workshops and outings. Here are just a few of the best: \nRoaring Water Bay which is a Sea Safari cruise at Ballycotton on the 14th and 15th of September.\nThe Clonakilty Food Tour visits many food producers in the area including Clonakilty Black pudding\, and cheese meat ice cream beer chartered and bread producers. Medieval feasting is it talk and slideshow about the feasting that took place in the great Hall of Dun na Sead castle in the Middle Ages.\nEchoes of Ireland\, at the West Cork Art Centre in Skibbereen is a four part play which chronicles the history of a Cork Family who emigrated to America in 1860.\nResponsible whale and Dolphin Watching Cruise at Baltimore Harbor on Saturday 8th of September.\nMindful Eating – Food for Thought at Dzogchen Beara\, Allihies on Saturday 8th of September.\nDrimoleague Heritage Gourmet Walk at Collins Centra\, Drimoleague on Saturday 8th of September.\nThe West Cork Food Tour at Manning’s Emporium Ballylickey\, Bantry on Saturday 8th of September.\nManaging Your Herb Garden at Riverside Studio Skibereen on Sunday 9th September.\nAn Afternoon of Michael Collins at Castleview Clonakilty Monday 10th September.\nSeed Saving at Turk Head Skibbereen on Tuesday 11th September.\nA Walk on the Wild Side\, Sherkin Island 12th September.\nExplore Bantry Bay by Boat – met at Bantry Bay Marina Thursday 13th September 2.00pm\nBere Island Park Run Saturday 8th of September at GAA Club Rerrin village Saturday 15th September 10.00am\nWalk on Sheep’s Head Peninsula – meet at The Cabin Ahakista Saturday 15th September 11.30am \n \nMarkets and Fairs\nThroughout the week there ar Farmers Markets and fairs at various locations: \nFriday 7th September: Bantry Market Fair Day\nFriday 7th September: Clonakilty Farmers Market\nFriday 7th September: Skibbereen Country Market\nSaturday 8th September: Skibbereen Country Market\nSaturday 8th September: Bandon Farmers Market\nSunday 9th September: Schull Country Market\nSunday 9th September: Kilcrohane Country Fair\nTuesday 11th September: Macroom Market\nWednesday 12th September: Skibbereen Farmers Evening Market\nFriday 14th September: Clonakilty Farmers Market\nFriday 14th September: Bantry Market\nFriday 14th September: Skibbereen Country Market\nSaturday 15th September: Skibbereen Farmers Market\nSaturday 15th September: Bandon Farmers Market \nTowns and Villages in the West Cork Food Festival 2018\nAlmost every town and village in West Cork is participating in some way in this great food festival. Food tasting\, special menus\, celebrity chefs\, markets\, talks \,walks\, workshops\,and seminars are among the events during the festival.\nIf you pass through Bantry\, Clonakilty\, Skibbereen\,\, Baltimore\, Kilcrohane\, Leap\, Dunmanway\, Ballydehob\, Castletownshend\, Courtmacsherry\, Bere Island\, Bandon\, Ahakista\, Durrus\, Glengarriff\, Allihies\, Macroom\, Sherkin Island\, Drimoleague\, Schull\, Castlehaven\, Heir Island\, Ballingeary\, Rosscarbery\, Goleen\, Timoleague\, Inchigeela\, Glandore\, Ballineen\, Union Hall\, Inish Beg Island\, Ballyvourney\, Bere Island or Cape Clear Island you will find some event or tasting to your liking. \nFor the full programme  of events at Taste of West Cork Food Festival 2018 click here.
URL:https://stayincork.com/event/taste-of-west-cork-food-festival-2018/
LOCATION:West Cork\, Skibereen\, Munster\, Ireland
CATEGORIES:Festivals
ATTACH;FMTTYPE=image/jpeg:https://stayincork.com/wp-content/uploads/2018/07/A-Taste-of-West-Cork-logo-new-1.jpg
END:VEVENT
BEGIN:VEVENT
DTSTART;VALUE=DATE:20180713
DTEND;VALUE=DATE:20180721
DTSTAMP:20260424T172811
CREATED:20180715T130419Z
LAST-MODIFIED:20180715T195213Z
UID:663-1531440000-1532131199@stayincork.com
SUMMARY:West Cork Literary Festival 2018
DESCRIPTION:West Cork Literary Festival 2018 is the 17th year of this festival which celebrates writing and reading for people of all ages.\nIt now boasts a busy programme of readings\, talks and workshops with some famous writers\, poets and critics dispensing their wisdom. \n\nThe events take place at various locations in West Cork including Bantry\, Whiddy Island and Glengarriff.\nSome of the highlights of this year’s festival include: \nSat 14th July 2018: Louise O’Neill\, author of ‘The Surface Breaks’ in conversation with students from Coláiste Pobail Bheanntraí at St. Brendan’s School Hall Bantry.\nSat 14th July 2018: Caitríona Perry (RTE newsreader and former Washington correspondent) speaks about her book In America: ‘Tales from Trump Country’ at The Maritime Hotel Bantry.\nSun 15th July 2018: Imogen Hermes Gowar\, author of ‘The Mermaid and Mrs Hancock’ joins visitors aboard the ferry to Whiddy Island.\nSun 15th July 2018: Fintan O’Toole lectures on Bernard Shaw and the Uses of Celebrity. O’Toole will explore how Shaw\, who stayed at The Eccles Hotel in Glengarriff\, created his own brand. – at The Maritime Hotel Bantry.\nMon 16th July 2018: Andrea Carter\, author of the Inishowen Mysteries series\, Death at Whitewater Church\, Treacherous Strand and The Well of Ice is at The Bantry Bookshop.\nMon 16th July 2018: The Poetry Divas: Amanda Bell\, Kate Dempsey & Maeve O’Sullivan at Organico Café\, Bantry.\nMon 16th July 2018: Bernard MacLaverty Booker Prize-nominated author of novels\, short stories\, dramas and screen plays introduces his latest novel “Midwinter Break” at The Maritime Hotel.\nTue 17th July 2018: India Knight\, who writes for The Sunday Times and is the author of four novels and five non fiction books will be at The Maritime Hotel.\nWed 18th July 2018: Muhammad Khan who is the author of ‘I am Thunder’ is an engineer and secondary-school maths teacher wil be in conversation with transition year students from Coláiste Pobail Bheanntraí at St. Brendan’s School Hall Bantry.\nWed 18th July 2018: Dame Margaret Drabble\, author of eighteen novels including A Summer Bird-Cage\, The Millstone\, The Peppered Moth\, The Red Queen\, The Sea Lady and The Pure Gold Baby will be at The Maritime Hotel.\nThu 19th July 2018: Award-winning poets John F Deane and James Harpur will be at Bantry Library.\nFri 20th July 2018: Chibundu Onuzo who was born in Lagos\, won a Betty Trask Award and was shortlisted for the Dylan Thomas Prize and the Commonwealth Book Prize for her first novel\, ‘The Spider King’s Daughter’\, will be at Bantry Library. \nThese are just the highlights of West Cork Literary Festival 2018.\nFor the full Programme Check their website at http://www.westcorkmusic.ie/literaryfestival/programme
URL:https://stayincork.com/event/west-cork-literary-festival-2018/
LOCATION:West Corl Literary Event\, 13 Glengarriff Road\, Bantry\, County Cork
CATEGORIES:Festivals
ATTACH;FMTTYPE=image/jpeg:https://stayincork.com/wp-content/uploads/2018/07/literary-festival.jpg
END:VEVENT
END:VCALENDAR